Workbook
Name CLASE: #REF!
Name Descripción: #REF!
Name efectos: #REF!
Name FACTOR: #REF!

Sheet Matriz de Peligros 2019
A1: DESARROLLADO CON LA ASESORÍA DE POSITIVA COMPAÑÍA DE SEGUROS PARA INVIMA | AP1: QUÍMICOS
A2: MATRIZ DE IDENTIFICACIÓN DE PELIGROS, VALORACIÓN DE RIESGOS Y DETERMINACIÓN DE CONTROLES MODELO SEGÚN NORMA GTC 45 ICONTEC - 2012 | AP2: BIOLÓGICOS
AP3: BIOMECÁNICOS
AP4: CONDICIONES DE SEGURIDAD
A5: INFORMACIÓN GENERAL DE LA EMPRESA | AP5: PSICOSOCIAL
A6: Razón Social de la Empresa | I6: INSTITUTO NACIONAL DE VIGILANCIA DE MEDICAMENTOS Y ALIMENTOS "INVIMA" | X6: NIT | Y6: X | Z6: CC | AB6: CE | AE6: No. | AF6: 830000167 | AP6: FENÓMENOS NATURALES
A7: No. De Trabajadores de la dependencia | F7: 29 | H7: Dirección | I7: Calle 61 # 7 - 38 Barrio la Castellana | P7: Actividad Económica | S7: Administración Publica | X7: Clase(s) de Riesgos | AC7: Uno - Cuatro - Cinco
A8: Teléfono | C8: (034) 787 21 27 | I8: Responsable(s) de la empresa | L8: Jorge Antonio Torralvo Martinez | Q8: Departamento | X8: Cordoba | AB8: Ciudad/municipio | AD8: Montería
A9: INFORMACIÓN DE LA MATRIZ DE IDENTIFICACIÓN DE PELIGROS EN EL CENTRO DE TRABAJO
A10: Nombre del Centro de Trabajo | I10: GTT CC2 MONTERÍA | Y10: Fecha de actualización | AA10: 17 | AB10: 5 | AC10: 2019
A11: Levantamiento de la información en la matriz realizada por: | I11: Luz Angela Galeano Redondo | K11: Licencia en SO | L11: 1322 | M11: Fecha de expedición: | O11: sep | Q11: 2018 | T11: LÍDER SST | Y11: OLIVA EUGENIA LEON ALVARADO | AB11: Cargo | AD11: PROFESIONAL UNIVERSITARIO
A12: PROCESO | B12: LUGAR DE TRABAJO | C12: ACTIVIDAD | D12: TAREA | E12: TIPO ACTIVIDAD RUTINARIA / NO RUTINARIA | F12: DESCRIPCIÓN | G12: PELIGROS | I12: EFECTOS POSIBLES | J12: CONTROL EXISTENTE | M12: EVALUACIÓN DEL RIESGO | W12: CRITERIOS DE CONTROL MEDIDAS DE INTERVENCIÓN SUGERIDAS | AB12: MARCO LEGAL | AD12: OBSERVACIÓN
G13: CLASIFICACIÓN | J13: FUENTE | K13: MEDIO | L13: TRABAJADOR | M13: NIVEL DE DEFICIENCIA | N13: NIVEL DE EXPOSICIÓN | O13: NIVEL DE PROBABILIDAD | P13: INTERPRETACIÓN NIVEL DE PROBABILIDAD | Q13: NIVEL DE CONSECUENCIA | R13: NIVEL DE RIESGO | S13: INTERPRETACIÓN DEL NIVEL DE RIESGO | T13: ACEPTABILIDAD DEL RIESGO | U13: EXPUESTOS | V13: PEOR CONSECUENCIA | W13: ELIMINACIÓN | X13: SUSTITUCIÓN | Y13: CONTROL INGENIERÍA | Z13: CONTROLES ADMINISTRATIVOS, DOCUMENTAL Y ADVERTENCIA (SEÑALIZACIÓN / DELIMITACIÓN / DEMARCACIÓN) | AA13: CONTROL EN LA PERSONA (EQUIPOS / ELEMENTOS DE PROTECCIÓN PERSONAL, FORMACIÓN) | AB13: ASPECTOS LEGALES APLICABLES | AC13: RELACIÓN DE LOS REQUISITOS LEGALES APLICABLES
A15: IVC Medicamentos, Dispositivos Médicos y Cosméticos | B15: Plantas de producción Farmacéuticas Dispositivos Médicos Cosméticos Dentro y fuera de la Ciudad | C15: Inspección, verificación y control de las practicas de manufactura en las plantas visitadas y/o a las instalaciones. | D15: Inspección, verificación y control de las practicas de manufactura en las plantas visitadas Decomisos de materiales y sellamiento de instituciones | E15: Rutinaria | F15: Verificación de los Procesos de Bancos de sangre y hospitales | G15: BIOLÓGICOS | H15: VIRUS | I15: Infecciones, cuadros virales, entre otras enfermedades comunes. | J15: N/A | K15: N/A | L15: Esquemas de vacunación de HVB e influenza Uso de EPP como: Cofia, protector respiratorio, bata, guantes impermeables | M15: 2 | N15: 4 | O15: =+M15*N15 -> 8 | P15: =IF(O15=0,"N/A",IF(AND(O15>=1,O15<=4),"Bajo",IF(AND(O15>=6,O15<=9),"Medio",IF(AND(O15>=10,O15<=20),"Alto",IF(O15>=24,"Muy Alto"))))) -> Medio | Q15: 25 | R15: =+O15*Q15 -> 200 | S15: =IF(R15=0,"N/A",IF(AND(R15>=1,R15<=20),"IV",IF(AND(R15>=40,R15<=120),"III",IF(AND(R15>=150,R15<=500),"II",IF(R15>=600,"I"))))) -> II | T15: =IF(S15="I","No aceptable",IF(S15="II","Aceptable con Control Especifico",IF(S15=0,"","Aceptable"))) -> Aceptable con Control Especifico | U15: 13 | V15: Enfermedades generales con relación a la exposición del riesgo. | Z15: Implementar programa de vigilancia Epidemiológico para riesgo Biológico. Seguimiento y control de esquemas de vacunación Campañas auto cuidado Capacitación Riesgo biológico | AA15: Capacitación de Riesgo Biológico, sensibilización de auto cuidado enfocado a Riesgo Biológico. Suministrar con una mayor frecuencia los EPP: Cofia, protector respiratorio, bata, guantes de nitrilo o látex | AB15: Si | AC15: Ley Novena de 1979, Decreto 2240 de 1996, Decreto 2676 de 2000, Resolución 1164 de 2002, Ley 1562 de 2012
A16: IVC Medicamentos, Dispositivos Médicos y Cosméticos | B16: Plantas de producción Farmacéuticas Dispositivos Médicos Cosméticos Dentro y fuera de la Ciudad | C16: Inspección, verificación y control de las practicas de manufactura en las plantas visitadas y/o a las instalaciones. | D16: Inspección, verificación y control de las practicas de manufactura en las plantas visitadas Decomisos de materiales y sellamiento de instituciones | E16: Rutinaria | F16: Verificación de los Procesos de Bancos de sangre y hospitales | G16: BIOLÓGICOS | H16: BACTERIAS | I16: Infecciones, reacciones alérgicas, afecciones en la piel entre otras enfermedades comunes | J16: N/A | K16: N/A | L16: Cofia, protector respiratorio, bata, guantes de nitrilo o látex | M16: 2 | N16: 4 | O16: =+M16*N16 -> 8 | P16: =IF(O16=0,"N/A",IF(AND(O16>=1,O16<=4),"Bajo",IF(AND(O16>=6,O16<=9),"Medio",IF(AND(O16>=10,O16<=20),"Alto",IF(O16>=24,"Muy Alto"))))) -> Medio | Q16: 25 | R16: =+O16*Q16 -> 200 | S16: =IF(R16=0,"N/A",IF(AND(R16>=1,R16<=20),"IV",IF(AND(R16>=40,R16<=120),"III",IF(AND(R16>=150,R16<=500),"II",IF(R16>=600,"I"))))) -> II | T16: =IF(S16="I","No aceptable",IF(S16="II","Aceptable con Control Especifico",IF(S16=0,"","Aceptable"))) -> Aceptable con Control Especifico | U16: 13 | V16: Enfermedades generales con relación a la exposición del riesgo. | Z16: Implementar programa de vigilancia Epidemiológico para riesgo Biológico. Campañas de auto cuidado Capacitación Riesgo biológico uso de EPP | AA16: Capacitación de Riesgo Biológico, sensibilización de auto cuidado enfocado a Riesgo Biológico. Suministrar con una mayor frecuencia los EPP: Cofia, protector respiratorio, bata, guantes de nitrilo o látex | AB16: Si | AC16: Ley Novena de 1979, Decreto 2240 de 1996, Decreto 2676 de 2000, Resolución 1164 de 2002, Ley 1562 de 2012 | AD16: Presencia de archivo dentro del baño de los hombres.
A17: IVC Medicamentos, Dispositivos Médicos y Cosméticos | B17: Plantas de producción Farmacéuticas Dispositivos Médicos Cosméticos Dentro y fuera de la Ciudad | C17: Inspección, verificación y control de las practicas de manufactura en las plantas visitadas y/o a las instalaciones. | D17: Inspección, verificación y control de las practicas de manufactura en las plantas visitadas Decomisos de materiales y sellamiento de instituciones | E17: Rutinaria | F17: Verificación de los Procesos de Bancos de sangre y hospitales | G17: BIOLÓGICOS | H17: HONGOS | I17: Alergias, Irritaciones, problemas dermatológicos | J17: N/A | K17: N/A | L17: Cofia, protector respiratorio, bata, guantes de nitrilo o látex | M17: 2 | N17: 4 | O17: =+M17*N17 -> 8 | P17: =IF(O17=0,"N/A",IF(AND(O17>=1,O17<=4),"Bajo",IF(AND(O17>=6,O17<=9),"Medio",IF(AND(O17>=10,O17<=20),"Alto",IF(O17>=24,"Muy Alto"))))) -> Medio | Q17: 25 | R17: =+O17*Q17 -> 200 | S17: =IF(R17=0,"N/A",IF(AND(R17>=1,R17<=20),"IV",IF(AND(R17>=40,R17<=120),"III",IF(AND(R17>=150,R17<=500),"II",IF(R17>=600,"I"))))) -> II | T17: =IF(S17="I","No aceptable",IF(S17="II","Aceptable con Control Especifico",IF(S17=0,"","Aceptable"))) -> Aceptable con Control Especifico | U17: 13 | V17: Enfermedades generales con relación a la exposición del riesgo. | Z17: Implementar programa de vigilancia Epidemiológico para riesgo Biológico. Capacitación riesgo biológico Campañas de auto cuidado y uso de EPP | AA17: Capacitación de Riesgo Biológico, sensibilización de auto cuidado enfocado a Riesgo Biológico. Suministrar con una mayor frecuencia los EPP: Cofia, protector respiratorio, bata, guantes de nitrilo o látex | AB17: Si | AC17: Ley Novena de 1979, Decreto 2240 de 1996, Decreto 2676 de 2000, Resolución 1164 de 2002, Ley 1562 de 2012
A18: IVC Medicamentos, Dispositivos Médicos y Cosméticos | B18: Plantas de producción Farmacéuticas Dispositivos Médicos Cosméticos Dentro y fuera de la Ciudad | C18: Inspección, verificación y control de las practicas de manufactura en las plantas visitadas y/o a las instalaciones. | D18: Inspección, verificación y control de las practicas de manufactura en las plantas visitadas Decomisos de materiales y sellamiento de instituciones | E18: Rutinaria | F18: Comisiones a nivel regional y diferentes ambientes | G18: BIOLÓGICOS | H18: PARÁSITOS | I18: Infecciones gastrointestinales por consumo de alimentos contaminados | J18: N/A | K18: N/A | L18: Esquemas de vacunación de influenza, hepatitis y Tétanos | M18: 2 | N18: 4 | O18: =+M18*N18 -> 8 | P18: =IF(O18=0,"N/A",IF(AND(O18>=1,O18<=4),"Bajo",IF(AND(O18>=6,O18<=9),"Medio",IF(AND(O18>=10,O18<=20),"Alto",IF(O18>=24,"Muy Alto"))))) -> Medio | Q18: 25 | R18: =+O18*Q18 -> 200 | S18: =IF(R18=0,"N/A",IF(AND(R18>=1,R18<=20),"IV",IF(AND(R18>=40,R18<=120),"III",IF(AND(R18>=150,R18<=500),"II",IF(R18>=600,"I"))))) -> II | T18: =IF(S18="I","No aceptable",IF(S18="II","Aceptable con Control Especifico",IF(S18=0,"","Aceptable"))) -> Aceptable con Control Especifico | U18: 13 | V18: Enfermedades generales con relación a la exposición del riesgo. | Z18: Implementar programa de vigilancia Epidemiológico para riesgo Biológico. Seguimiento y control de esquemas de vacunación Campañas auto cuidado Capacitación Riesgo biológico | AA18: Capacitación de Riesgo Biológico, sensibilización de auto cuidado enfocado a Riesgo Biológico. | AB18: Si | AC18: Ley Novena de 1979, Decreto 2240 de 1996, Decreto 2676 de 2000, Resolución 1164 de 2002, Ley 1562 de 2012
A19: IVC Medicamentos, Dispositivos Médicos y Cosméticos | B19: Plantas de producción Farmacéuticas Dispositivos Médicos Cosméticos Dentro y fuera de la Ciudad | C19: Inspección, verificación y control de las practicas de manufactura en las plantas visitadas y/o a las instalaciones. | D19: Inspección, verificación y control de las practicas de manufactura en las plantas visitadas Decomisos de materiales y sellamiento de instituciones | E19: Rutinaria | F19: Realizan comisiones a nivel regional. | G19: BIOLÓGICOS | H19: PICADURAS | I19: Infecciones, reacciones alérgicas, afecciones en la piel entre otras enfermedades comunes | J19: N/A | K19: N/A | L19: Esquemas de vacunación de hepatitis y Tétanos | M19: 2 | N19: 4 | O19: =+M19*N19 -> 8 | P19: =IF(O19=0,"N/A",IF(AND(O19>=1,O19<=4),"Bajo",IF(AND(O19>=6,O19<=9),"Medio",IF(AND(O19>=10,O19<=20),"Alto",IF(O19>=24,"Muy Alto"))))) -> Medio | Q19: 25 | R19: =+O19*Q19 -> 200 | S19: =IF(R19=0,"N/A",IF(AND(R19>=1,R19<=20),"IV",IF(AND(R19>=40,R19<=120),"III",IF(AND(R19>=150,R19<=500),"II",IF(R19>=600,"I"))))) -> II | T19: =IF(S19="I","No aceptable",IF(S19="II","Aceptable con Control Especifico",IF(S19=0,"","Aceptable"))) -> Aceptable con Control Especifico | U19: 13 | V19: Enfermedades generales con relación a la exposición del riesgo. | Z19: Implementar programa de vigilancia Epidemiológico para riesgo Biológico. Seguimiento y control de esquemas de vacunación Campañas auto cuidado Capacitación Riesgo biológico | AA19: Capacitación de Riesgo Biológico, sensibilización de auto cuidado enfocado a Riesgo Biológico. | AB19: Si | AC19: Ley Novena de 1979, Decreto 2240 de 1996, Decreto 2676 de 2000, Resolución 1164 de 2002, Ley 1562 de 2012
A20: IVC Medicamentos, Dispositivos Médicos y Cosméticos | B20: Plantas de producción Farmacéuticas Dispositivos Médicos Cosméticos Dentro y fuera de la Ciudad | C20: Inspección, verificación y control de las practicas de manufactura en las plantas visitadas y/o a las instalaciones. | D20: Inspección, verificación y control de las practicas de manufactura en las plantas visitadas Decomisos de materiales y sellamiento de instituciones | E20: Rutinaria | F20: Presencia de compresores y equipos en empresas como fabricantes de gases medicinales (compresores), prótesis, en industria farmacéutica y cosmética por: agitadores, compactadoras, dosificadoras, tableteadoras, blisteadoras, entre otros equipos que generan ruido. | G20: FÍSICOS | H20: RUIDO CONTINUO | I20: Dolores de cabeza Lesiones auditivas | J20: N/A | K20: N/A | L20: N/A | M20: 6 | N20: 2 | O20: =+M20*N20 -> 12 | P20: =IF(O20=0,"N/A",IF(AND(O20>=1,O20<=4),"Bajo",IF(AND(O20>=6,O20<=9),"Medio",IF(AND(O20>=10,O20<=20),"Alto",IF(O20>=24,"Muy Alto"))))) -> Alto | Q20: 25 | R20: =+O20*Q20 -> 300 | S20: =IF(R20=0,"N/A",IF(AND(R20>=1,R20<=20),"IV",IF(AND(R20>=40,R20<=120),"III",IF(AND(R20>=150,R20<=500),"II",IF(R20>=600,"I"))))) -> II | T20: =IF(S20="I","No aceptable",IF(S20="II","Aceptable con Control Especifico",IF(S20=0,"","Aceptable"))) -> Aceptable con Control Especifico | U20: 13 | V20: Perdida de la capacidad auditiva | Z20: Capacitación uso de EPP, validar la posibilidad de realizar mediciones de higiene referentes a ruido ocupacional (sonometrías, dosimetrías) | AA20: Suministrar de manera frecuente los EPP necesarios para realizar la actividad : Protector auditivo de inserción si se esta expuesto al peligro | AB20: Si | AC20: Resolución 1972 de 1990 Resolución 8321 de 1983
A21: IVC Medicamentos, Dispositivos Médicos y Cosméticos | B21: Plantas de producción Farmacéuticas Dispositivos Médicos Cosméticos Dentro y fuera de la Ciudad | C21: Inspección, verificación y control de las practicas de manufactura en las plantas visitadas y/o a las instalaciones. | D21: Inspección, verificación y control de las practicas de manufactura en las plantas visitadas Decomisos de materiales y sellamiento de instituciones | E21: Rutinaria | F21: Diferentes procesos en la industria radio-farmacéutica que lo generan | G21: FÍSICOS | H21: RADIACIONES IONIZANTES RAYOS X, GAMA, BETA, ALFA. | I21: Daños en tejidos y órganos dependiendo de la dosis absorbida . | J21: N/A | K21: N/A | L21: N/A | M21: 6 | N21: 2 | O21: =+M21*N21 -> 12 | P21: =IF(O21=0,"N/A",IF(AND(O21>=1,O21<=4),"Bajo",IF(AND(O21>=6,O21<=9),"Medio",IF(AND(O21>=10,O21<=20),"Alto",IF(O21>=24,"Muy Alto"))))) -> Alto | Q21: 25 | R21: =+O21*Q21 -> 300 | S21: =IF(R21=0,"N/A",IF(AND(R21>=1,R21<=20),"IV",IF(AND(R21>=40,R21<=120),"III",IF(AND(R21>=150,R21<=500),"II",IF(R21>=600,"I"))))) -> II | T21: =IF(S21="I","No aceptable",IF(S21="II","Aceptable con Control Especifico",IF(S21=0,"","Aceptable"))) -> Aceptable con Control Especifico | U21: 13 | V21: Daños permanentes en el sistema digestivo, óseo, hematopoyético, reproductivo. | Z21: Capacitación uso de EPP, validar la posibilidad de realizar mediciones de higiene referentes a ruido ocupacional (sonometrías, dosimetrías) | AA21: Suministrar los EPP requeridos suministrados por la planta, para la actividad a realizar y exposición que va a tener el trabajador | AB21: Si | AC21: Resolución 2400 de 1979
A22: IVC Medicamentos, Dispositivos Médicos y Cosméticos | B22: Plantas de producción Farmacéuticas Dispositivos Médicos Cosméticos Dentro y fuera de la Ciudad | C22: Inspección, verificación y control de las practicas de manufactura en las plantas visitadas y/o a las instalaciones. | D22: Inspección, verificación y control de las practicas de manufactura en las plantas visitadas Decomisos de materiales y sellamiento de instituciones | E22: Rutinaria | F22: Producto en cadena de frio Cuartos fríos | G22: FÍSICOS | H22: TEMPERATURAS EXTREMAS FRIO | I22: Agotamiento físico lesiones dérmicas, Dolores de cabeza, resfriados, enfermedad general, sistema inmunológico bajo de defensas, estrés térmico, falta de sueño y disminución de rendimiento en el trabajo | J22: N/A | K22: N/A | L22: N/A | M22: 2 | N22: 2 | O22: =+M22*N22 -> 4 | P22: =IF(O22=0,"N/A",IF(AND(O22>=1,O22<=4),"Bajo",IF(AND(O22>=6,O22<=9),"Medio",IF(AND(O22>=10,O22<=20),"Alto",IF(O22>=24,"Muy Alto"))))) -> Bajo | Q22: 25 | R22: =+O22*Q22 -> 100 | S22: =IF(R22=0,"N/A",IF(AND(R22>=1,R22<=20),"IV",IF(AND(R22>=40,R22<=120),"III",IF(AND(R22>=150,R22<=500),"II",IF(R22>=600,"I"))))) -> III | T22: =IF(S22="I","No aceptable",IF(S22="II","Aceptable con Control Especifico",IF(S22=0,"","Aceptable"))) -> Aceptable | U22: 13 | V22: Hipotermia | Z22: Suministrar la ropa adecuada para ingreso a los cuartos fríos. Realizar campañas de auto cuidado | AA22: Suministrar los EPP necesarios para el ingreso a los cuartos fríos. | AB22: Si | AC22: Ley 9 de 1979
A23: IVC Medicamentos, Dispositivos Médicos y Cosméticos | B23: Plantas de producción Farmacéuticas Dispositivos Médicos Cosméticos Dentro y fuera de la Ciudad | C23: Inspección, verificación y control de las practicas de manufactura en las plantas visitadas y/o a las instalaciones. | D23: Inspección, verificación y control de las practicas de manufactura en las plantas visitadas Decomisos de materiales y sellamiento de instituciones | E23: Rutinaria | F23: Presencia de polvos en los diferentes procesos de la industria (órtesis y prótesis) u en el pulido dispersan volúmenes de polvo. | G23: QUÍMICOS | H23: Polvos Orgánicos | I23: Alergias, irritaciones, neumoconiosis | J23: N/A | K23: N/A | L23: N/A | M23: 2 | N23: 3 | O23: =+M23*N23 -> 6 | P23: =IF(O23=0,"N/A",IF(AND(O23>=1,O23<=4),"Bajo",IF(AND(O23>=6,O23<=9),"Medio",IF(AND(O23>=10,O23<=20),"Alto",IF(O23>=24,"Muy Alto"))))) -> Medio | Q23: 25 | R23: =+O23*Q23 -> 150 | S23: =IF(R23=0,"N/A",IF(AND(R23>=1,R23<=20),"IV",IF(AND(R23>=40,R23<=120),"III",IF(AND(R23>=150,R23<=500),"II",IF(R23>=600,"I"))))) -> II | T23: =IF(S23="I","No aceptable",IF(S23="II","Aceptable con Control Especifico",IF(S23=0,"","Aceptable"))) -> Aceptable con Control Especifico | U23: 13 | V23: Intoxicaciones graves. | Z23: Campañas de auto cuidado y uso de EPP Capacitación en prevención del riesgo químico | AA23: Suministrar lo EPP necesarios para la actividad: protector respiratorio N95 y guantes de látex o nitrilo | AB23: Si | AC23: Ley 9 de 1979, Resolución 2400 de 1979, Convenio 170 de 1990, Decreto 1843 de 1991, Ley 29 de 1992 Ley 55 de 1993, Ley 253 de 1996, Ley 320 de 1996, Decreto 1443 de 2014
A24: IVC Medicamentos, Dispositivos Médicos y Cosméticos | B24: Plantas de producción Farmacéuticas Dispositivos Médicos Cosméticos Dentro y fuera de la Ciudad | C24: Inspección, verificación y control de las practicas de manufactura en las plantas visitadas y/o a las instalaciones. | D24: Inspección, verificación y control de las practicas de manufactura en las plantas visitadas Decomisos de materiales y sellamiento de instituciones | E24: Rutinaria | F24: Uso de sustancias químicas en los procesos de las diferentes empresas (industria cosmética, farmacéutica, de aseo y plaguicidas) | G24: QUÍMICOS | H24: Gases y vapores | I24: Irritaciones en vías respiratorias | J24: N/A | K24: N/A | L24: N/A | M24: 6 | N24: 2 | O24: =+M24*N24 -> 12 | P24: =IF(O24=0,"N/A",IF(AND(O24>=1,O24<=4),"Bajo",IF(AND(O24>=6,O24<=9),"Medio",IF(AND(O24>=10,O24<=20),"Alto",IF(O24>=24,"Muy Alto"))))) -> Alto | Q24: 25 | R24: =+O24*Q24 -> 300 | S24: =IF(R24=0,"N/A",IF(AND(R24>=1,R24<=20),"IV",IF(AND(R24>=40,R24<=120),"III",IF(AND(R24>=150,R24<=500),"II",IF(R24>=600,"I"))))) -> II | T24: =IF(S24="I","No aceptable",IF(S24="II","Aceptable con Control Especifico",IF(S24=0,"","Aceptable"))) -> Aceptable con Control Especifico | U24: 13 | V24: Afecciones respiratorias, intoxicaciones y alergias | Z24: Campañas de auto cuidado y uso de EPP Capacitación en prevención del riesgo químico | AA24: Suministrar lo EPP necesarios para la actividad: protector respiratorio N95 y guantes de látex o nitrilo | AB24: Si | AC24: Ley 9 de 1979, Resolución 2400 de 1979, Convenio 170 de 1990, Decreto 1843 de 1991, Ley 29 de 1992 Ley 55 de 1993, Ley 253 de 1996, Ley 320 de 1996, Decreto 1443 de 2014
A25: IVC Medicamentos, Dispositivos Médicos y Cosméticos | B25: Plantas de producción Farmacéuticas Dispositivos Médicos Cosméticos Dentro y fuera de la Ciudad | C25: Inspección, verificación y control de las practicas de manufactura en las plantas visitadas y/o a las instalaciones. | D25: Inspección, verificación y control de las practicas de manufactura en las plantas visitadas Decomisos de materiales y sellamiento de instituciones | E25: Rutinaria | F25: El personal se encuentra la mayor parte del tiempo con suficiente carga laboral Jornadas de trabajo que se extienden Trabajo en horarios nocturnos Trato con diferentes tipo de clientes constantemente Sanciones y sellamientos de empresas | G25: PSICOSOCIAL | H25: Características de la organización (organización del trabajo) | I25: Estrés, irritabilidad, apatía laboral, desmotivación, falta de interés, baja productividad | J25: N/A | K25: Implementación de batería de riesgo psicosocial | L25: Talleres para reducción de Riesgo Psicosocial. | M25: 6 | N25: 3 | O25: =+M25*N25 -> 18 | P25: =IF(O25=0,"N/A",IF(AND(O25>=1,O25<=4),"Bajo",IF(AND(O25>=6,O25<=9),"Medio",IF(AND(O25>=10,O25<=20),"Alto",IF(O25>=24,"Muy Alto"))))) -> Alto | Q25: 25 | R25: =+O25*Q25 -> 450 | S25: =IF(R25=0,"N/A",IF(AND(R25>=1,R25<=20),"IV",IF(AND(R25>=40,R25<=120),"III",IF(AND(R25>=150,R25<=500),"II",IF(R25>=600,"I"))))) -> II | T25: =IF(S25="I","No aceptable",IF(S25="II","Aceptable con Control Especifico",IF(S25=0,"","Aceptable"))) -> Aceptable con Control Especifico | U25: 13 | V25: Diversas enfermedades psicológicas. | Z25: Capacitación en prevención del Riesgo Psicosocial, manejo de estrés y autocuidado, Seguimiento a resultados de la implementación de la batería de riesgo psicosocial, programa de pausas activas o actividades lúdicas | AA25: Capacitaciones en Trabajo en equipo, clima organizacional, motivación laboral, manejo de estrés, comunicación asertiva, relaciones interpersonales, prevención del estrés. | AB25: Si | AC25: Decreto 231 de 2006 Resolución 1016 de 1989 Resolución 734 de 2006 Resolución 2646 de 2008 Decreto 1832 de 1994
A26: IVC Medicamentos, Dispositivos Médicos y Cosméticos | B26: Plantas de producción Farmacéuticas Dispositivos Médicos Cosméticos Dentro y fuera de la Ciudad | C26: Inspección, verificación y control de las practicas de manufactura en las plantas visitadas y/o a las instalaciones. | D26: Inspección, verificación y control de las practicas de manufactura en las plantas visitadas Decomisos de materiales y sellamiento de instituciones | E26: Rutinaria | F26: El personal se encuentra la mayor parte del tiempo con suficiente carga laboral Jornadas de trabajo que se extienden | G26: PSICOSOCIAL | H26: Jornada de Trabajo | I26: Estrés, irritabilidad, apatía laboral, desmotivación, falta de interés, baja productividad | J26: N/A | K26: Implementación de batería de riesgo psicosocial | L26: Talleres para reducción de Riesgo Psicosocial. | M26: 6 | N26: 3 | O26: =+M26*N26 -> 18 | P26: =IF(O26=0,"N/A",IF(AND(O26>=1,O26<=4),"Bajo",IF(AND(O26>=6,O26<=9),"Medio",IF(AND(O26>=10,O26<=20),"Alto",IF(O26>=24,"Muy Alto"))))) -> Alto | Q26: 25 | R26: =+O26*Q26 -> 450 | S26: =IF(R26=0,"N/A",IF(AND(R26>=1,R26<=20),"IV",IF(AND(R26>=40,R26<=120),"III",IF(AND(R26>=150,R26<=500),"II",IF(R26>=600,"I"))))) -> II | T26: =IF(S26="I","No aceptable",IF(S26="II","Aceptable con Control Especifico",IF(S26=0,"","Aceptable"))) -> Aceptable con Control Especifico | U26: 13 | V26: Diversas enfermedades psicológicas. | Z26: Capacitación en prevención del Riesgo Psicosocial, manejo de estrés y autocuidado, Seguimiento a resultados de la implementación de la batería de riesgo psicosocial, programa de pausas activas o actividades lúdicas | AA26: Capacitaciones en Trabajo en equipo, clima organizacional, motivación laboral, manejo de estrés, comunicación asertiva, relaciones interpersonales, prevención del estrés. | AB26: Si | AC26: Ley 9 de 1979, Decreto 884 de 2012, ley 1010 de 2006, Ley 1566 de 2012, Resolución 652 de 2012, Decreto 231 de 2006, Resolución 1016 de 1989, Resolución 734 de 2006, Resolución 2646 de 2008, Decreto 1832 de 1994
A27: IVC Medicamentos, Dispositivos Médicos y Cosméticos | B27: Plantas de producción Farmacéuticas Dispositivos Médicos Cosméticos Dentro y fuera de la Ciudad | C27: Inspección, verificación y control de las practicas de manufactura en las plantas visitadas y/o a las instalaciones. | D27: Inspección, verificación y control de las practicas de manufactura en las plantas visitadas Decomisos de materiales y sellamiento de instituciones | E27: Rutinaria | F27: El personal se encuentra la mayor parte del tiempo con suficiente carga laboral Jornadas de trabajo que se extienden Trabajo en horarios nocturnos Trato con diferentes tipo de clientes constantemente Sanciones y sellamientos de empresas | G27: PSICOSOCIAL | H27: Condiciones de la Tarea (carga mental, contenido de la tarea, demandas emocionales, monotonía) | I27: Estrés, irritabilidad, apatía laboral, desmotivación, falta de interés, baja productividad | J27: N/A | K27: Implementación de batería de riesgo psicosocial | L27: Talleres para reducción de Riesgo Psicosocial. | M27: 6 | N27: 3 | O27: =+M27*N27 -> 18 | P27: =IF(O27=0,"N/A",IF(AND(O27>=1,O27<=4),"Bajo",IF(AND(O27>=6,O27<=9),"Medio",IF(AND(O27>=10,O27<=20),"Alto",IF(O27>=24,"Muy Alto"))))) -> Alto | Q27: 25 | R27: =+O27*Q27 -> 450 | S27: =IF(R27=0,"N/A",IF(AND(R27>=1,R27<=20),"IV",IF(AND(R27>=40,R27<=120),"III",IF(AND(R27>=150,R27<=500),"II",IF(R27>=600,"I"))))) -> II | T27: =IF(S27="I","No aceptable",IF(S27="II","Aceptable con Control Especifico",IF(S27=0,"","Aceptable"))) -> Aceptable con Control Especifico | U27: 13 | V27: Diversas enfermedades psicológicas. | Z27: Capacitación en prevención del Riesgo Psicosocial, manejo de estrés y autocuidado, Seguimiento a resultados de la implementación de la batería de riesgo psicosocial, programa de pausas activas o actividades lúdicas | AA27: Capacitaciones en Trabajo en equipo, clima organizacional, motivación laboral, manejo de estrés, comunicación asertiva, relaciones interpersonales, prevención del estrés. | AB27: Si | AC27: Ley 9 de 1979, Decreto 884 de 2012, ley 1010 de 2006, Ley 1566 de 2012, Resolución 652 de 2012, Decreto 231 de 2006, Resolución 1016 de 1989, Resolución 734 de 2006, Resolución 2646 de 2008, Decreto 1832 de 1994
A28: IVC Medicamentos, Dispositivos Médicos y Cosméticos | B28: Plantas de producción Farmacéuticas Dispositivos Médicos Cosméticos Dentro y fuera de la Ciudad | C28: Inspección, verificación y control de las practicas de manufactura en las plantas visitadas y/o a las instalaciones. | D28: Inspección, verificación y control de las practicas de manufactura en las plantas visitadas Decomisos de materiales y sellamiento de instituciones | E28: Rutinaria | F28: El personal se encuentra la mayor parte del tiempo con suficiente carga laboral Jornadas de trabajo que se extienden Trabajo en horarios nocturnos Trato con diferentes tipo de clientes constantemente Sanciones y sellamientos de empresas | G28: PSICOSOCIAL | H28: Condiciones de la Tarea (carga mental, contenido de la tarea, demandas emocionales, monotonía) | I28: Estrés, irritabilidad, apatía laboral, desmotivación, falta de interés, baja productividad | J28: N/A | K28: Implementación de batería de riesgo psicosocial | L28: Talleres para reducción de Riesgo Psicosocial. | M28: 6 | N28: 3 | O28: =+M28*N28 -> 18 | P28: =IF(O28=0,"N/A",IF(AND(O28>=1,O28<=4),"Bajo",IF(AND(O28>=6,O28<=9),"Medio",IF(AND(O28>=10,O28<=20),"Alto",IF(O28>=24,"Muy Alto"))))) -> Alto | Q28: 25 | R28: =+O28*Q28 -> 450 | S28: =IF(R28=0,"N/A",IF(AND(R28>=1,R28<=20),"IV",IF(AND(R28>=40,R28<=120),"III",IF(AND(R28>=150,R28<=500),"II",IF(R28>=600,"I"))))) -> II | T28: =IF(S28="I","No aceptable",IF(S28="II","Aceptable con Control Especifico",IF(S28=0,"","Aceptable"))) -> Aceptable con Control Especifico | U28: 13 | V28: Diversas enfermedades psicológicas. | Z28: Capacitación en prevención del Riesgo Psicosocial, manejo de estrés y autocuidado, Seguimiento a resultados de la implementación de la batería de riesgo psicosocial, programa de pausas activas o actividades lúdicas | AA28: Capacitaciones en Trabajo en equipo, clima organizacional, motivación laboral, manejo de estrés, comunicación asertiva, relaciones interpersonales, prevención del estrés. | AB28: Si | AC28: Ley 9 de 1979, Decreto 884 de 2012, ley 1010 de 2006, Ley 1566 de 2012, Resolución 652 de 2012, Decreto 231 de 2006, Resolución 1016 de 1989, Resolución 734 de 2006, Resolución 2646 de 2008, Decreto 1832 de 1994
A29: IVC Medicamentos, Dispositivos Médicos y Cosméticos | B29: Plantas de producción Farmacéuticas Dispositivos Médicos Cosméticos Dentro y fuera de la Ciudad | C29: Inspección, verificación y control de las practicas de manufactura en las plantas visitadas y/o a las instalaciones. | D29: Inspección, verificación y control de las practicas de manufactura en las plantas visitadas Decomisos de materiales y sellamiento de instituciones | E29: Rutinaria | F29: El personal se encuentra la mayor parte del tiempo con suficiente carga laboral Jornadas de trabajo que se extienden Trabajo en horarios nocturnos Trato con diferentes tipo de clientes constantemente Sanciones y sellamientos de empresas | G29: PSICOSOCIAL | H29: Condiciones de la Tarea (carga mental, contenido de la tarea, demandas emocionales, monotonía) | I29: Estrés, irritabilidad, apatía laboral, desmotivación, falta de interés, baja productividad | J29: N/A | K29: Implementación de batería de riesgo psicosocial | L29: Talleres para reducción de Riesgo Psicosocial. | M29: 6 | N29: 3 | O29: =+M29*N29 -> 18 | P29: =IF(O29=0,"N/A",IF(AND(O29>=1,O29<=4),"Bajo",IF(AND(O29>=6,O29<=9),"Medio",IF(AND(O29>=10,O29<=20),"Alto",IF(O29>=24,"Muy Alto"))))) -> Alto | Q29: 25 | R29: =+O29*Q29 -> 450 | S29: =IF(R29=0,"N/A",IF(AND(R29>=1,R29<=20),"IV",IF(AND(R29>=40,R29<=120),"III",IF(AND(R29>=150,R29<=500),"II",IF(R29>=600,"I"))))) -> II | T29: =IF(S29="I","No aceptable",IF(S29="II","Aceptable con Control Especifico",IF(S29=0,"","Aceptable"))) -> Aceptable con Control Especifico | U29: 13 | V29: Diversas enfermedades psicológicas. | Z29: Capacitación en prevención del Riesgo Psicosocial, manejo de estrés y autocuidado, Seguimiento a resultados de la implementación de la batería de riesgo psicosocial, programa de pausas activas o actividades lúdicas | AA29: Capacitaciones en Trabajo en equipo, clima organizacional, motivación laboral, manejo de estrés, comunicación asertiva, relaciones interpersonales, prevención del estrés.
A30: IVC Medicamentos, Dispositivos Médicos y Cosméticos | B30: Plantas de producción Farmacéuticas Dispositivos Médicos Cosméticos Dentro y fuera de la Ciudad | C30: Inspección, verificación y control de las practicas de manufactura en las plantas visitadas y/o a las instalaciones. | D30: Inspección, verificación y control de las practicas de manufactura en las plantas visitadas Decomisos de materiales y sellamiento de instituciones | E30: Rutinaria | F30: La actividad se realiza la mayoría del tiempo en postura sedente en áreas administrativas | G30: BIOMECÁNICOS | H30: POSTURA PROLONGADA | I30: Dolores de espalda, problemas osteomusculares | J30: N/A | K30: Implementación de batería de riesgo psicosocial | L30: PVE Riesgo biomecánico programa pausas activas | M30: 2 | N30: 4 | O30: =+M30*N30 -> 8 | P30: =IF(O30=0,"N/A",IF(AND(O30>=1,O30<=4),"Bajo",IF(AND(O30>=6,O30<=9),"Medio",IF(AND(O30>=10,O30<=20),"Alto",IF(O30>=24,"Muy Alto"))))) -> Medio | Q30: 25 | R30: =+O30*Q30 -> 200 | S30: =IF(R30=0,"N/A",IF(AND(R30>=1,R30<=20),"IV",IF(AND(R30>=40,R30<=120),"III",IF(AND(R30>=150,R30<=500),"II",IF(R30>=600,"I"))))) -> II | T30: =IF(S30="I","No aceptable",IF(S30="II","Aceptable con Control Especifico",IF(S30=0,"","Aceptable"))) -> Aceptable con Control Especifico | U30: 13 | V30: Desordenes musculo esqueléticos. | Z30: Dar continuidad al PVE riesgo biomecánico Campañas de auto cuidado y realizar de pausas activas | AA30: Realizar pausas activas durante su jornada laboral | AB30: Si | AC30: Resolución 2400 de 1979 Decreto 1443 de 2014 Decreto ley 1295 de 1994
A31: IVC Medicamentos, Dispositivos Médicos y Cosméticos | B31: Plantas de producción Farmacéuticas Dispositivos Médicos Cosméticos Dentro y fuera de la Ciudad | C31: Inspección, verificación y control de las practicas de manufactura en las plantas visitadas y/o a las instalaciones. | D31: Inspección, verificación y control de las practicas de manufactura en las plantas visitadas Decomisos de materiales y sellamiento de instituciones | E31: Rutinaria | F31: Actividades administrativas todo el tiempo uso de mouse y teclado | G31: BIOMECÁNICOS | H31: MOVIMIENTO REPETITIVO | I31: Dolores constantes y malestar en miembros superiores (manos, codos, hombros) Fatiga muscular. | J31: N/A | K31: Implementación de batería de riesgo psicosocial | L31: PVE Riesgo biomecánico Programa Pausas Activas | M31: 2 | N31: 2 | O31: =+M31*N31 -> 4 | P31: =IF(O31=0,"N/A",IF(AND(O31>=1,O31<=4),"Bajo",IF(AND(O31>=6,O31<=9),"Medio",IF(AND(O31>=10,O31<=20),"Alto",IF(O31>=24,"Muy Alto"))))) -> Bajo | Q31: 25 | R31: =+O31*Q31 -> 100 | S31: =IF(R31=0,"N/A",IF(AND(R31>=1,R31<=20),"IV",IF(AND(R31>=40,R31<=120),"III",IF(AND(R31>=150,R31<=500),"II",IF(R31>=600,"I"))))) -> III | T31: =IF(S31="I","No aceptable",IF(S31="II","Aceptable con Control Especifico",IF(S31=0,"","Aceptable"))) -> Aceptable | U31: 13 | V31: Desordenes musculo esqueléticos. | Z31: Dar continuidad al PVE riesgo biomecánico Campañas de auto cuidado y realizar de pausas activas | AA31: Realizar pausas activas durante su jornada laboral | AB31: Si | AC31: Resolución 2400 de 1979 Decreto 1443 de 2014 Decreto ley 1295 de 1994
A32: IVC Medicamentos, Dispositivos Médicos y Cosméticos | B32: Plantas de producción Farmacéuticas Dispositivos Médicos Cosméticos Dentro y fuera de la Ciudad | C32: Inspección, verificación y control de las practicas de manufactura en las plantas visitadas y/o a las instalaciones. | D32: Inspección, verificación y control de las practicas de manufactura en las plantas visitadas Decomisos de materiales y sellamiento de instituciones | E32: Rutinaria | F32: El personal se encuentra realizando trabajo administrativo en posición sedente realizando labores administrativas | G32: BIOMECÁNICOS | H32: POSTURA FORZADA | I32: Dolores osteomusculares Lesiones de columna | J32: N/A | K32: Implementación de batería de riesgo psicosocial | L32: PVE Riesgo biomecánico Programa Pausas Activas | M32: 2 | N32: 3 | O32: =+M32*N32 -> 6 | P32: =IF(O32=0,"N/A",IF(AND(O32>=1,O32<=4),"Bajo",IF(AND(O32>=6,O32<=9),"Medio",IF(AND(O32>=10,O32<=20),"Alto",IF(O32>=24,"Muy Alto"))))) -> Medio | Q32: 25 | R32: =+O32*Q32 -> 150 | S32: =IF(R32=0,"N/A",IF(AND(R32>=1,R32<=20),"IV",IF(AND(R32>=40,R32<=120),"III",IF(AND(R32>=150,R32<=500),"II",IF(R32>=600,"I"))))) -> II | T32: =IF(S32="I","No aceptable",IF(S32="II","Aceptable con Control Especifico",IF(S32=0,"","Aceptable"))) -> Aceptable con Control Especifico | U32: 13 | V32: Desordenes musculo esqueléticos. | Z32: Dar continuidad al PVE riesgo biomecánico Campañas de auto cuidado y realizar de pausas activas | AA32: Realizar pausas activas durante su jornada laboral | AB32: Si | AC32: Resolución 2400 de 1979 Decreto 1443 de 2014 Decreto ley 1295 de 1994
A33: IVC Medicamentos, Dispositivos Médicos y Cosméticos | B33: Plantas de producción Farmacéuticas Dispositivos Médicos Cosméticos Dentro y fuera de la Ciudad | C33: Inspección, verificación y control de las practicas de manufactura en las plantas visitadas y/o a las instalaciones. | D33: Inspección, verificación y control de las practicas de manufactura en las plantas visitadas Decomisos de materiales y sellamiento de instituciones | E33: Rutinaria | F33: Maquinaria y equipos en diferentes procesos El personal se encuentra manipulando cajones, gavetas, puertas de archivo en áreas administrativas. | G33: CONDICIONES DE SEGURIDAD | H33: Mecánico por elementos o partes de maquinas | I33: Contusiones, golpes, heridas, laceraciones en dedos y manos | J33: N/A | K33: Implementación de batería de riesgo psicosocial | L33: N/A | M33: 2 | N33: 4 | O33: =+M33*N33 -> 8 | P33: =IF(O33=0,"N/A",IF(AND(O33>=1,O33<=4),"Bajo",IF(AND(O33>=6,O33<=9),"Medio",IF(AND(O33>=10,O33<=20),"Alto",IF(O33>=24,"Muy Alto"))))) -> Medio | Q33: 25 | R33: =+O33*Q33 -> 200 | S33: =IF(R33=0,"N/A",IF(AND(R33>=1,R33<=20),"IV",IF(AND(R33>=40,R33<=120),"III",IF(AND(R33>=150,R33<=500),"II",IF(R33>=600,"I"))))) -> II | T33: =IF(S33="I","No aceptable",IF(S33="II","Aceptable con Control Especifico",IF(S33=0,"","Aceptable"))) -> Aceptable con Control Especifico | U33: 13 | V33: Heridas en tejidos blandos | Z33: Campañas de auto cuidado y orden y aseo en puestos de trabajo | AA33: Capacitación en reporte de actos y condiciones inseguras, capacitación en prevención del riesgo mecánico, atrapamiento o golpes con partes en movimiento. | AB33: Si | AC33: Resolución 2400 de 1979
A34: IVC Medicamentos, Dispositivos Médicos y Cosméticos | B34: Plantas de producción Farmacéuticas Dispositivos Médicos Cosméticos Dentro y fuera de la Ciudad | C34: Inspección, verificación y control de las practicas de manufactura en las plantas visitadas y/o a las instalaciones. | D34: Inspección, verificación y control de las practicas de manufactura en las plantas visitadas Decomisos de materiales y sellamiento de instituciones | E34: Rutinaria | F34: Manipulación de cosedoras, bisturís, grapadoras, saca ganchos etc. | G34: CONDICIONES DE SEGURIDAD | H34: Mecánico por (piezas a trabajar) | I34: Contusiones, golpes, heridas, laceraciones en dedos y manos | J34: N/A | K34: Implementación de batería de riesgo | L34: N/A | M34: 6 | N34: 3 | O34: =+M34*N34 -> 18 | P34: =IF(O34=0,"N/A",IF(AND(O34>=1,O34<=4),"Bajo",IF(AND(O34>=6,O34<=9),"Medio",IF(AND(O34>=10,O34<=20),"Alto",IF(O34>=24,"Muy Alto"))))) -> Alto | Q34: 25 | R34: =+O34*Q34 -> 450 | S34: =IF(R34=0,"N/A",IF(AND(R34>=1,R34<=20),"IV",IF(AND(R34>=40,R34<=120),"III",IF(AND(R34>=150,R34<=500),"II",IF(R34>=600,"I"))))) -> II | T34: =IF(S34="I","No aceptable",IF(S34="II","Aceptable con Control Especifico",IF(S34=0,"","Aceptable"))) -> Aceptable con Control Especifico | U34: 13 | V34: Heridas en tejidos blandos | Z34: Campañas de auto cuidado y orden y aseo en puestos de trabajo | AA34: Reporte de herramientas que se encuentren dañadas y/o deterioradas, capacitación en prevención del riesgo mecánico (cuidado de manos) | AB34: Si | AC34: Resolución 2400 de 1979
A35: IVC Medicamentos, Dispositivos Médicos y Cosméticos | B35: Plantas de producción Farmacéuticas Dispositivos Médicos Cosméticos Dentro y fuera de la Ciudad | C35: Inspección, verificación y control de las practicas de manufactura en las plantas visitadas y/o a las instalaciones. | D35: Inspección, verificación y control de las practicas de manufactura en las plantas visitadas Decomisos de materiales y sellamiento de instituciones | E35: Rutinaria | F35: Proyección de partículas en algunos de los procesos de las diferentes plantas | G35: CONDICIONES DE SEGURIDAD | H35: Mecánico por Materiales proyectados líquidos | I35: Irritaciones, lesiones dérmicas | J35: N/A | K35: Implementación de batería de riesgo | L35: N/A | M35: 6 | N35: 3 | O35: =+M35*N35 -> 18 | P35: =IF(O35=0,"N/A",IF(AND(O35>=1,O35<=4),"Bajo",IF(AND(O35>=6,O35<=9),"Medio",IF(AND(O35>=10,O35<=20),"Alto",IF(O35>=24,"Muy Alto"))))) -> Alto | Q35: 25 | R35: =+O35*Q35 -> 450 | S35: =IF(R35=0,"N/A",IF(AND(R35>=1,R35<=20),"IV",IF(AND(R35>=40,R35<=120),"III",IF(AND(R35>=150,R35<=500),"II",IF(R35>=600,"I"))))) -> II | T35: =IF(S35="I","No aceptable",IF(S35="II","Aceptable con Control Especifico",IF(S35=0,"","Aceptable"))) -> Aceptable con Control Especifico | U35: 13 | V35: Heridas en tejidos blandos | Z35: Capacitación uso de EPP | AA35: Suministrar con una mayor frecuencia los EPP: Cofia, protector respiratorio, bata, guantes de nitrilo o látex | AB35: Si | AC35: Resolución 2400 de 1979
A36: IVC Medicamentos, Dispositivos Médicos y Cosméticos | B36: Plantas de producción Farmacéuticas Dispositivos Médicos Cosméticos Dentro y fuera de la Ciudad | C36: Inspección, verificación y control de las practicas de manufactura en las plantas visitadas y/o a las instalaciones. | D36: Inspección, verificación y control de las practicas de manufactura en las plantas visitadas Decomisos de materiales y sellamiento de instituciones | E36: Rutinaria | F36: Proyección de partículas en algunos de los procesos de las diferentes plantas | G36: CONDICIONES DE SEGURIDAD | H36: Mecánico por materiales proyectados sólidos | I36: Golpes, irritaciones, lesiones dérmicas | J36: N/A | K36: Implementación de batería de riesgo | L36: N/A | M36: 6 | N36: 3 | O36: =+M36*N36 -> 18 | P36: =IF(O36=0,"N/A",IF(AND(O36>=1,O36<=4),"Bajo",IF(AND(O36>=6,O36<=9),"Medio",IF(AND(O36>=10,O36<=20),"Alto",IF(O36>=24,"Muy Alto"))))) -> Alto | Q36: 25 | R36: =+O36*Q36 -> 450 | S36: =IF(R36=0,"N/A",IF(AND(R36>=1,R36<=20),"IV",IF(AND(R36>=40,R36<=120),"III",IF(AND(R36>=150,R36<=500),"II",IF(R36>=600,"I"))))) -> II | T36: =IF(S36="I","No aceptable",IF(S36="II","Aceptable con Control Especifico",IF(S36=0,"","Aceptable"))) -> Aceptable con Control Especifico | U36: 13 | V36: Heridas en tejidos blandos | Z36: Capacitación uso de EPP | AA36: Suministrar con una mayor frecuencia los EPP: Cofia, protector respiratorio, bata, guantes de nitrilo o látex | AB36: Si | AC36: Resolución 2400 de 1979
A37: IVC Medicamentos, Dispositivos Médicos y Cosméticos | B37: Plantas de producción Farmacéuticas Dispositivos Médicos Cosméticos Dentro y fuera de la Ciudad | C37: Inspección, verificación y control de las practicas de manufactura en las plantas visitadas y/o a las instalaciones. | D37: Inspección, verificación y control de las practicas de manufactura en las plantas visitadas Decomisos de materiales y sellamiento de instituciones | E37: Rutinaria | F37: Comisiones a nivel regional | G37: CONDICIONES DE SEGURIDAD | H37: Accidentes de tránsito | I37: Heridas, contusiones, fracturas | J37: N/A | K37: Implementación de batería de riesgo | L37: Campañas y sensibilización de riesgo público | M37: 2 | N37: 3 | O37: =+M37*N37 -> 6 | P37: =IF(O37=0,"N/A",IF(AND(O37>=1,O37<=4),"Bajo",IF(AND(O37>=6,O37<=9),"Medio",IF(AND(O37>=10,O37<=20),"Alto",IF(O37>=24,"Muy Alto"))))) -> Medio | Q37: 60 | R37: =+O37*Q37 -> 360 | S37: =IF(R37=0,"N/A",IF(AND(R37>=1,R37<=20),"IV",IF(AND(R37>=40,R37<=120),"III",IF(AND(R37>=150,R37<=500),"II",IF(R37>=600,"I"))))) -> II | T37: =IF(S37="I","No aceptable",IF(S37="II","Aceptable con Control Especifico",IF(S37=0,"","Aceptable"))) -> Aceptable con Control Especifico | U37: 13 | V37: Invalidez, politraumatismos | Y37: Revisión tecnicomecanicas de vehículos. Inspección pre operacional de vehículos | Z37: Campañas de auto cuidado Capacitación riesgo publico y accidentes de tránsito, capacitación en seguridad vial y manejo defensivo, programa de seguridad vial o PESV (en caso de aplicar) | AA37: Realizar sensibilizaciones y capacitaciones en seguridad vial, normas de tránsito vigentes, comportamientos seguros Realizar capacitaciones en reporte de actos y condiciones inseguras asociadas a las condiciones de los vehículos | AB37: Si | AC37: Código Nacional de Transito, Decreto 1906/2015, Decreto 2851/2013, Ley 1503/2011, Resolución 1565/2011, Resolución 3027/2010
A38: IVC Medicamentos, Dispositivos Médicos y Cosméticos | B38: Plantas de producción Farmacéuticas Dispositivos Médicos Cosméticos Dentro y fuera de la Ciudad | C38: Inspección, verificación y control de las practicas de manufactura en las plantas visitadas y/o a las instalaciones. | D38: Inspección, verificación y control de las practicas de manufactura en las plantas visitadas Decomisos de materiales y sellamiento de instituciones | E38: Rutinaria | F38: Presencia de escalones y distintos niveles y superficies deslizantes | G38: CONDICIONES DE SEGURIDAD | H38: Locativo superficies de trabajo con diferencia de nivel | I38: Caídas a mismo y diferente nivel, golpes, lesiones | J38: N/A | K38: Implementación de batería de riesgo | L38: N/A | M38: 2 | N38: 4 | O38: =+M38*N38 -> 8 | P38: =IF(O38=0,"N/A",IF(AND(O38>=1,O38<=4),"Bajo",IF(AND(O38>=6,O38<=9),"Medio",IF(AND(O38>=10,O38<=20),"Alto",IF(O38>=24,"Muy Alto"))))) -> Medio | Q38: 25 | R38: =+O38*Q38 -> 200 | S38: =IF(R38=0,"N/A",IF(AND(R38>=1,R38<=20),"IV",IF(AND(R38>=40,R38<=120),"III",IF(AND(R38>=150,R38<=500),"II",IF(R38>=600,"I"))))) -> II | T38: =IF(S38="I","No aceptable",IF(S38="II","Aceptable con Control Especifico",IF(S38=0,"","Aceptable"))) -> Aceptable con Control Especifico | U38: 13 | V38: Politraumatismo. | Z38: Campañas de auto cuidado y prevención caídas, señalización | AA38: Capacitación en reporte de actos y condiciones inseguras. | AB38: Si | AC38: Resolución 2400 de 1979
A39: IVC Medicamentos, Dispositivos Médicos y Cosméticos | B39: Plantas de producción Farmacéuticas Dispositivos Médicos Cosméticos Dentro y fuera de la Ciudad | C39: Inspección, verificación y control de las practicas de manufactura en las plantas visitadas y/o a las instalaciones. | D39: Inspección, verificación y control de las practicas de manufactura en las plantas visitadas Decomisos de materiales y sellamiento de instituciones | E39: Rutinaria | F39: Trabajo con entidad publica Comisiones a nivel regional | G39: CONDICIONES DE SEGURIDAD | H39: Públicos por robos | I39: Traumas psicológicos, heridas, contusiones, golpes entre otras lesiones personales | J39: N/A | K39: N/A | L39: N/A | M39: 2 | N39: 4 | O39: =+M39*N39 -> 8 | P39: =IF(O39=0,"N/A",IF(AND(O39>=1,O39<=4),"Bajo",IF(AND(O39>=6,O39<=9),"Medio",IF(AND(O39>=10,O39<=20),"Alto",IF(O39>=24,"Muy Alto"))))) -> Medio | Q39: 60 | R39: =Q39*O39 -> 480 | S39: =IF(R39=0,"N/A",IF(AND(R39>=1,R39<=20),"IV",IF(AND(R39>=40,R39<=120),"III",IF(AND(R39>=150,R39<=500),"II",IF(R39>=600,"I"))))) -> II | T39: =IF(S39="I","No aceptable",IF(S39="II","Aceptable con Control Especifico",IF(S39=0,"","Aceptable"))) -> Aceptable con Control Especifico | U39: 13 | Z39: Campañas de auto cuidado Capacitación riesgo publico y accidentes de tránsito, programa de riesgo publico | AA39: Capacitación y sensibilización en riesgo público, enfocado en autocuidado. | AB39: Si | AC39: Resolución 2400 de 1979
A40: IVC Medicamentos, Dispositivos Médicos y Cosméticos | B40: Plantas de producción Farmacéuticas Dispositivos Médicos Cosméticos Dentro y fuera de la Ciudad | C40: Inspección, verificación y control de las practicas de manufactura en las plantas visitadas y/o a las instalaciones. | D40: Inspección, verificación y control de las practicas de manufactura en las plantas visitadas Decomisos de materiales y sellamiento de instituciones | E40: Rutinaria | F40: Trabajo con entidad publica Comisiones a nivel regional | G40: CONDICIONES DE SEGURIDAD | H40: Públicos por atracos | I40: Traumas psicológicos, heridas, contusiones, golpes entre otras lesiones personales | J40: N/A | K40: N/A | L40: N/A | M40: 2 | N40: 4 | O40: =+M40*N40 -> 8 | P40: =IF(O40=0,"N/A",IF(AND(O40>=1,O40<=4),"Bajo",IF(AND(O40>=6,O40<=9),"Medio",IF(AND(O40>=10,O40<=20),"Alto",IF(O40>=24,"Muy Alto"))))) -> Medio | Q40: 60 | R40: =Q40*O40 -> 480 | S40: =IF(R40=0,"N/A",IF(AND(R40>=1,R40<=20),"IV",IF(AND(R40>=40,R40<=120),"III",IF(AND(R40>=150,R40<=500),"II",IF(R40>=600,"I"))))) -> II | T40: =IF(S40="I","No aceptable",IF(S40="II","Aceptable con Control Especifico",IF(S40=0,"","Aceptable"))) -> Aceptable con Control Especifico | U40: 13 | V40: Lesiones múltiples. | Z40: Campañas de auto cuidado Capacitación riesgo publico y accidentes de tránsito, programa de riesgo publico | AA40: Capacitación y sensibilización en riesgo público, enfocado en autocuidado. | AB40: Si | AC40: Resolución 2400 de 1979
A41: IVC Medicamentos, Dispositivos Médicos y Cosméticos | B41: Plantas de producción Farmacéuticas Dispositivos Médicos Cosméticos Dentro y fuera de la Ciudad | C41: Inspección, verificación y control de las practicas de manufactura en las plantas visitadas y/o a las instalaciones. | D41: Inspección, verificación y control de las practicas de manufactura en las plantas visitadas Decomisos de materiales y sellamiento de instituciones | E41: Rutinaria | F41: Trabajo con entidad publica Comisiones a nivel regional | G41: CONDICIONES DE SEGURIDAD | H41: Públicos por asaltos | I41: Traumas psicológicos, heridas, contusiones, golpes entre otras lesiones personales | J41: N/A | K41: N/A | L41: N/A | M41: 2 | N41: 4 | O41: =+M41*N41 -> 8 | P41: =IF(O41=0,"N/A",IF(AND(O41>=1,O41<=4),"Bajo",IF(AND(O41>=6,O41<=9),"Medio",IF(AND(O41>=10,O41<=20),"Alto",IF(O41>=24,"Muy Alto"))))) -> Medio | Q41: 60 | R41: =Q41*O41 -> 480 | S41: =IF(R41=0,"N/A",IF(AND(R41>=1,R41<=20),"IV",IF(AND(R41>=40,R41<=120),"III",IF(AND(R41>=150,R41<=500),"II",IF(R41>=600,"I"))))) -> II | T41: =IF(S41="I","No aceptable",IF(S41="II","Aceptable con Control Especifico",IF(S41=0,"","Aceptable"))) -> Aceptable con Control Especifico | U41: 13 | V41: Lesiones múltiples. | Z41: Campañas de auto cuidado Capacitación riesgo publico y accidentes de tránsito, programa de riesgo publico | AA41: N/A | AB41: Si | AC41: Resolución 2400 de 1979
...

Sheet RIESGOS
A2: Clasificación del Riesgo | B2: # | C2: % | E2: DESCRIPCIÓN | F2: # | G2: % | I2: ACEPTABILIDAD DEL RIESGO | J2: #
A3: BIOLÓGICOS | B3: =+COUNTIF('Matriz de Peligros 2019'!$G$15:$G$140,"BIOLÓGICOS") -> 21 | C3: =B3/B10*100 -> 16.666667 | E3: I | F3: =+COUNTIF('Matriz de Peligros 2019'!$S$15:$S$140,"I") -> 0 | G3: =F3/F7*100 -> 0 | I3: ACEPTABLE | J3: =+COUNTIF('Matriz de Peligros 2019'!$T$15:$T$140,"ACEPTABLE") -> 6
A4: BIOMECÁNICOS | B4: =+COUNTIF('Matriz de Peligros 2019'!$G$15:$G$140,"BIOMECÁNICOS") -> 18 | C4: =B4/B10*100 -> 14.285714 | E4: II | F4: =+COUNTIF('Matriz de Peligros 2019'!$S$15:$S$140,"II") -> 120 | G4: =F4/F7*100 -> 95.238095 | I4: ACEPTABLE CON CONTROL ESPECIFICO | J4: =+COUNTIF('Matriz de Peligros 2019'!$T$15:$T$140,"ACEPTABLE CON CONTROL ESPECIFICO") -> 120
A5: CONDICIONES DE SEGURIDAD | B5: =+COUNTIF('Matriz de Peligros 2019'!$G$15:$G$140,"CONDICIONES DE SEGURIDAD") -> 45 | C5: =B5/B10*100 -> 35.714286 | E5: III | F5: =+COUNTIF('Matriz de Peligros 2019'!$S$15:$S$140,"III") -> 6 | G5: =F5/F7*100 -> 4.7619048 | I5: NO ACEPTABLE | J5: =+COUNTIF('Matriz de Peligros 2019'!$T$15:$T$140,"NO ACEPTABLE") -> 0
A6: FENÓMENOS NATURALES | B6: =+COUNTIF('Matriz de Peligros 2019'!$G$15:$G$140,"FENÓMENOS NATURALES") -> 1 | C6: =B6/B10*100 -> 0.79365079 | E6: IV | F6: =+COUNTIF('Matriz de Peligros 2019'!$S$15:$S$140,"IV") -> 0 | G6: =F6/F7*100 -> 0 | J6: =SUM(J3:J5) -> 126
A7: FÍSICOS | B7: =+COUNTIF('Matriz de Peligros 2019'!$G$15:$G$140,"FÍSICOS") -> 13 | C7: =B7/B10*100 -> 10.31746 | E7: TOTAL | F7: =SUM(F3:F6) -> 126 | G7: =SUM(G3:G6) -> 100
A8: PSICOSOCIAL | B8: =+COUNTIF('Matriz de Peligros 2019'!$G$15:$G$140,"PSICOSOCIAL") -> 19 | C8: =B8/B10*100 -> 15.079365
A9: QUÍMICOS | B9: =+COUNTIF('Matriz de Peligros 2019'!$G$15:$G$140,"QUÍMICOS") -> 9 | C9: =B9/B10*100 -> 7.1428571
A10: TOTAL | B10: =SUM(B3:B9) -> 126 | C10: =SUM(C3:C9) -> 100
